BEGIN:VCALENDAR
VERSION:2.0
PRODID:-//Amazing Care Network - ECPv6.15.20//NONSGML v1.0//EN
CALSCALE:GREGORIAN
METHOD:PUBLISH
X-WR-CALNAME:Amazing Care Network
X-ORIGINAL-URL:http://dev.amazingcarenetwork.com
X-WR-CALDESC:Events for Amazing Care Network
REFRESH-INTERVAL;VALUE=DURATION:PT1H
X-Robots-Tag:noindex
X-PUBLISHED-TTL:PT1H
BEGIN:VTIMEZONE
TZID:UTC
BEGIN:STANDARD
TZOFFSETFROM:+0000
TZOFFSETTO:+0000
TZNAME:UTC
DTSTART:20190101T000000
END:STANDARD
END:VTIMEZONE
BEGIN:VTIMEZONE
TZID:America/Los_Angeles
BEGIN:DAYLIGHT
TZOFFSETFROM:-0800
TZOFFSETTO:-0700
TZNAME:PDT
DTSTART:20190310T100000
END:DAYLIGHT
BEGIN:STANDARD
TZOFFSETFROM:-0700
TZOFFSETTO:-0800
TZNAME:PST
DTSTART:20191103T090000
END:STANDARD
BEGIN:DAYLIGHT
TZOFFSETFROM:-0800
TZOFFSETTO:-0700
TZNAME:PDT
DTSTART:20200308T100000
END:DAYLIGHT
BEGIN:STANDARD
TZOFFSETFROM:-0700
TZOFFSETTO:-0800
TZNAME:PST
DTSTART:20201101T090000
END:STANDARD
BEGIN:DAYLIGHT
TZOFFSETFROM:-0800
TZOFFSETTO:-0700
TZNAME:PDT
DTSTART:20210314T100000
END:DAYLIGHT
BEGIN:STANDARD
TZOFFSETFROM:-0700
TZOFFSETTO:-0800
TZNAME:PST
DTSTART:20211107T090000
END:STANDARD
BEGIN:DAYLIGHT
TZOFFSETFROM:-0800
TZOFFSETTO:-0700
TZNAME:PDT
DTSTART:20220313T100000
END:DAYLIGHT
BEGIN:STANDARD
TZOFFSETFROM:-0700
TZOFFSETTO:-0800
TZNAME:PST
DTSTART:20221106T090000
END:STANDARD
END:VTIMEZONE
BEGIN:VEVENT
DTSTART;TZID=UTC:20240312T130000
DTEND;TZID=UTC:20240312T150000
DTSTAMP:20260420T035038
CREATED:20231209T090217Z
LAST-MODIFIED:20240227T211315Z
UID:9399-1710248400-1710255600@dev.amazingcarenetwork.com
SUMMARY:JOIN US FOR AN AFTERNOON TEA & CONVERSATION IN SAN DIEGO!
DESCRIPTION:PANEL TOPIC\nTrends in care-giving support and how employers are embracing pathways to support their employees need for care-giving\n\n\n\n\n  \n\n\n\nDESCRIPTION \n\n\nLearn more about Michael Walsh \nDear friends\,\n\n\n\n  \n\n\n\n\nI’m delighted to welcome Michael Walsh\, Founder and CEO of Cariloop as our speaker on March 12 at 1 pm\, Rancho Santa Fe Golf Club.  Michael will discuss trends in care-giving support and how employers are embracing pathways to support their employees need for care-giving whether for children or elder parents.  You can learn more about Michael here. \n  \nPlease join me! \n\n\nCora\n\n\n\n\n  \n\n\n\n\n\n\n\n\n\n\n\n\n\n\n\nVENUE \n\n\nRancho Santa Fe Golf Club\nCrosby Room\,\n\n\n5827 Via De La Cumbre\,\nRancho Santa Fe\, CA 92067\n\n\n\n  \n\n\n\n\n\nTICKETS\n\n\n$35 for non-members\n\n\nTHIS EVENT IS LIMITED TO 100 ATTENDEES.\n\n\nALL ATTENDEES MUST HAVE A TICKET TO ENTER.\n\n\nAmazing Care Network members attend free! Members\, please email customer.service@amazingcarenetwork.com for your complimentary ticket.
URL:http://dev.amazingcarenetwork.com/event/join-us-for-an-afternoon-tea-conversation-in-san-diego-3/
LOCATION:Rancho Santa Fe Golf Club\, Crosby Room\, 5827 Via De La Cumbre\, Rancho Santa Fe\, 92067
CATEGORIES:California
ATTACH;FMTTYPE=image/jpeg:http://acnwordpressnew.s3.amazonaws.com/wp-content/uploads/2023/02/rancho-santa-fe-golf-club.jpg
END:VEVENT
BEGIN:VEVENT
DTSTART;TZID=UTC:20230713T140000
DTEND;TZID=UTC:20230713T160000
DTSTAMP:20260420T035038
CREATED:20230223T104444Z
LAST-MODIFIED:20230223T104444Z
UID:8861-1689256800-1689264000@dev.amazingcarenetwork.com
SUMMARY:JOIN US FOR AN AFTERNOON TEA & CONVERSATION IN OAKLAND!
DESCRIPTION:VENUE\n\n\n1000 Broadway STE 250\,\nOakland\, CA 94607\n\n\n\n  \n\n\n\n\n\nTICKETS\n\n\n$35 for non-members\n\n\nTHIS EVENT IS LIMITED TO 100 ATTENDEES.\n\n\nALL ATTENDEES MUST HAVE A TICKET TO ENTER.\n\n\nAmazing Care Network members attend free! Members\, please email customer.service@amazingcarenetwork.com for your complimentary ticket.
URL:http://dev.amazingcarenetwork.com/event/join-us-for-an-afternoon-tea-conversation-in-oakland-2/
LOCATION:Sterling Administration Corporate Office\, 1000 Broadway Suite #250\, Oakland\, CA\, 94607\, United States
CATEGORIES:California
ATTACH;FMTTYPE=image/jpeg:http://acnwordpressnew.s3.amazonaws.com/wp-content/uploads/2023/02/iStock-1174534545_compressed.jpg
END:VEVENT
BEGIN:VEVENT
DTSTART;TZID=UTC:20230608T140000
DTEND;TZID=UTC:20230608T160000
DTSTAMP:20260420T035038
CREATED:20230223T105231Z
LAST-MODIFIED:20230513T061256Z
UID:8865-1686232800-1686240000@dev.amazingcarenetwork.com
SUMMARY:JOIN US FOR AN AFTERNOON TEA & CONVERSATION IN SAN DIEGO!
DESCRIPTION:PANEL TOPIC\n\n\n\n“Guidance when confronting medical issues” \n\n\n  \n\n\n\n\n\n\n\n\nDESCRIPTION\n\nLearn more about Alan Feren \nDear friends\, \nIt’s been way too long since we gathered together in person\, and I’m so looking forward to our meeting on May 23 at noon. We will meet in Sterling’s office\, located at 1000 Broadway\, Suite 250 in Oakland (across the street from the Oakland Marriott Hotel.) \nI’ve invited my long-time friend and colleague\, Dr. Alan Feren\, to chat about his experiences in helping ACN members and others who need pertinent information when confronting medical issues. (Alan and I worked together at Blue Shield of California.) I’ve heard from those who have benefitted from Alan’s advice and are grateful to be armed with information when deciding about alternative medical procedures/interventions. You can learn more about Alan by clicking: https://www.amazingcarenetwork.com/my-personal-advocate/ \nI look forward to seeing you soon! \nCora \n\n\n  \n\n\n\n\n  \n\n\n\n\nVENUE \n\n\nRancho Santa Fe Golf Club\nCrosby Room\,\n\n\n5827 Via De La Cumbre\,\nRancho Santa Fe\, CA 92067\n\n\n\n  \n\n\n\n\n\nTICKETS\n\n\n$35 for non-members\n\n\nTHIS EVENT IS LIMITED TO 100 ATTENDEES.\n\n\nALL ATTENDEES MUST HAVE A TICKET TO ENTER.\n\n\nAmazing Care Network members attend free! Members\, please email customer.service@amazingcarenetwork.com for your complimentary ticket.
URL:http://dev.amazingcarenetwork.com/event/join-us-for-an-afternoon-tea-conversation-in-san-diego-2/
LOCATION:Rancho Santa Fe Golf Club\, Crosby Room\, 5827 Via De La Cumbre\, Rancho Santa Fe\, 92067
CATEGORIES:California
ATTACH;FMTTYPE=image/jpeg:http://acnwordpressnew.s3.amazonaws.com/wp-content/uploads/2023/02/rancho-santa-fe-golf-club.jpg
END:VEVENT
BEGIN:VEVENT
DTSTART;TZID=UTC:20230523T120000
DTEND;TZID=UTC:20230523T140000
DTSTAMP:20260420T035038
CREATED:20230223T065445Z
LAST-MODIFIED:20230513T061232Z
UID:8850-1684843200-1684850400@dev.amazingcarenetwork.com
SUMMARY:JOIN US FOR LUNCH & CONVERSATION IN OAKLAND!
DESCRIPTION:PANEL TOPIC\n\n\n\n“Guidance when confronting medical issues” \n\n\n  \n\n\n\n\n\n\n\n\nDESCRIPTION\n\nLearn more about Alan Feren \nDear friends\, \nIt’s been way too long since we gathered together in person\, and I’m so looking forward to our meeting on May 23 at noon. We will meet in Sterling’s office\, located at 1000 Broadway\, Suite 250 in Oakland (across the street from the Oakland Marriott Hotel.) \nI’ve invited my long-time friend and colleague\, Dr. Alan Feren\, to chat about his experiences in helping ACN members and others who need pertinent information when confronting medical issues. (Alan and I worked together at Blue Shield of California.) I’ve heard from those who have benefitted from Alan’s advice and are grateful to be armed with information when deciding about alternative medical procedures/interventions. You can learn more about Alan by clicking: https://www.amazingcarenetwork.com/my-personal-advocate/ \nI look forward to seeing you soon! \nCora \n\n\n  \n\n\n\n\nVENUE \n\n\n\n1000 Broadway STE 250\,\n\nOakland\, CA 94607 \n\n\n  \n\n\n\n\nTICKETS \n\n\n\n$35 for non-members\n\n\nTHIS EVENT IS LIMITED TO 100 ATTENDEES.\n\n\nALL ATTENDEES MUST HAVE A TICKET TO ENTER.\n\n\nAmazing Care Network members attend free! Members\, please email customer.service@amazingcarenetwork.com for your complimentary ticket.
URL:http://dev.amazingcarenetwork.com/event/join-us-for-an-afternoon-tea-conversation-in-oakland/
LOCATION:Sterling Administration Corporate Office\, 1000 Broadway Suite #250\, Oakland\, CA\, 94607\, United States
CATEGORIES:California
ATTACH;FMTTYPE=image/jpeg:http://acnwordpressnew.s3.amazonaws.com/wp-content/uploads/2023/02/iStock-1174534545_compressed.jpg
END:VEVENT
BEGIN:VEVENT
DTSTART;TZID=UTC:20230323T140000
DTEND;TZID=UTC:20230323T160000
DTSTAMP:20260420T035038
CREATED:20230222T024913Z
LAST-MODIFIED:20230223T053844Z
UID:8829-1679580000-1679587200@dev.amazingcarenetwork.com
SUMMARY:JOIN US FOR AN AFTERNOON TEA & CONVERSATION IN SAN DIEGO!
DESCRIPTION:PANEL TOPIC\n“Financial Wellness” \n  \nDESCRIPTION \nDear friends\, \nLearn more about Cameron Almond \nAt long last\, the San Diego Chapter of the Amazing Care Network will be meeting in person on March 23\, 2023 at the Rancho Santa Fe Golf Club.  It’s been way too long since we gathered\, but now that the pandemic is largely behind us\, I’m so looking forward to being with you in person.  As usual\, we will meet at 2 pm and have our guest speaker\, Cameron Almond\, speak at 3 pm. \nI invited Cameron from The Ayco Company to speak on how we ensure we don’t outlive our assets.  The pandemic taught me many things\, including the need to have my financial affairs in order.  Frankly\, too many friends suffered great anxiety over this issue especially when family members experienced prolong illness that was exacerbated by Covid.  There were worries about how to transfer assets without incurring huge tax liabilities and how to handle financial matters when a loved one is no longer capable mentally and emotionally to do so. \nI’ve known Cameron for years and is a trusted advisor to many families\, including my own. He has worked at the Ayco Company since 2014 and advises clients on estate planning\, wealth transfer\, investment strategy\, risk management\, and tax compliance. Please RSVP and join us. I would so love to see you again! \n\n\nCheers\,\nCora\n\n\n  \n\nVENUE\n\nRancho Santa Fe Golf Club\n\n\n5827 Via De La Cumbre\,\nRancho Santa Fe\, CA 92067\n\n\n\n  \n\n\n\n\n\nTICKETS\n\n\n$35 for non-members\n\n\nTHIS EVENT IS LIMITED TO 100 ATTENDEES.\n\n\nALL ATTENDEES MUST HAVE A TICKET TO ENTER.\n\n\nAmazing Care Network members attend free! Members\, please email customer.service@amazingcarenetwork.com for your complimentary ticket.
URL:http://dev.amazingcarenetwork.com/event/join-us-for-an-afternoon-tea-conversation-in-san-diego/
LOCATION:Rancho Santa Fe Golf Club\, Crosby Room\, 5827 Via De La Cumbre\, Rancho Santa Fe\, 92067
CATEGORIES:California
ATTACH;FMTTYPE=image/jpeg:http://acnwordpressnew.s3.amazonaws.com/wp-content/uploads/2023/02/rancho-santa-fe-golf-club.jpg
END:VEVENT
BEGIN:VEVENT
DTSTART;TZID=UTC:20210413T130000
DTEND;TZID=UTC:20210413T140000
DTSTAMP:20260420T035038
CREATED:20201215T075756Z
LAST-MODIFIED:20210218T040532Z
UID:7413-1618318800-1618322400@dev.amazingcarenetwork.com
SUMMARY:Yoga for Healthy Aging in the Pandemic Era
DESCRIPTION:April 13th\, 1PM PST \nPlease join us in welcoming Baxter Bell\, MD\, who will share with us why yoga may be one of the best lifestyle medicine choices for this unique time. He will share his insights into the unique benefits of the tools of yoga to support well-being\, vitality and immune function\, from both his perspective as a western trained family physician and a yoga therapist and yoga educator. Baxter will also discuss the potential yoga has in addressing the challenges of the Covid19 pandemic. And who knows\, we may even get to do a little bit of yoga together! \nAbout The Speaker: Baxter Bell\n \nBaxter Bell\, MD\, is a certified yoga therapist\, medical acupuncturist\, yoga educator\, physician and co-author of the book\, Yoga for Healthy Aging. He has been a yoga practitioner since 1993\, a yoga instructor since 1999\, and has been teaching aspiring yoga teachers and yoga therapists for the last 18 years. Learn more about Baxter at www.baxterbell.com
URL:http://dev.amazingcarenetwork.com/event/yoga-for-healthy-aging-in-the-pandemic-era/
LOCATION:Webinar Only Event
CATEGORIES:California,Hawaii
ATTACH;FMTTYPE=image/jpeg:https://acnwordpressnew.s3.amazonaws.com/wp-content/uploads/2020/12/14235740/Screen-Shot-2020-12-14-at-1.57.06-PM.jpg
END:VEVENT
BEGIN:VEVENT
DTSTART;TZID=America/Los_Angeles:20210319T130000
DTEND;TZID=America/Los_Angeles:20210319T140000
DTSTAMP:20260420T035038
CREATED:20201215T074926Z
LAST-MODIFIED:20210309T033421Z
UID:7409-1616158800-1616162400@dev.amazingcarenetwork.com
SUMMARY:COVID-19 Vaccination Updates
DESCRIPTION:March 19\, 2021\, 1PM PST \nAs COVID vaccinations become available\, there may still be confusion about them. In the webinar we will discuss all aspects of them. What vaccines are available? What doses are needed? As well as: How they work and how effective are they? Are there side effects; and what are they? What is known or new about the availability and distribution? By March\, much more information should be available. Dr. Lorentz & Dr. Hart will share the latest information with attendees. \nAbout the Speaker: Sarah Lorentz \n \nDr. Lorentz is the Director of Medication Therapy Management (MTM) for Partners in Medication Therapy\, an innovative venture of UC San Diego Skaggs School of Pharmacy.  This program is specifically designed to provide comprehensive medication reviews for patients on complex regimens.  Additionally\, she is Director of Introductory Pharmacy Practice Experiences and works closely with students and precepting pharmacists in community and health-system pharmacies.  She also coordinates the Immunization Training Course for incoming student pharmacist and works with the 4th year student pharmacists on career planning. She planning to involve her student pharmacists in COVID-19 Vaccine administration. \nDr. Lorentz graduated from the University of Minnesota with a B.S. in Pharmacy and a Doctor of Pharmacy.  Her fellowship training at UCSD Medical Center focused on ambulatory care practice with research related to hypertension and anticoagulation.  She helped establish the Pharmacy Home Infusion Service in the UCSD Department of Pharmacy.  In addition\, Dr. Lorentz served as a pharmacy consultant at St. Vincent de Paul Village Family Health Center\, where she initiated an MTM and anticoagulation clinic\, while providing care to underserved and homeless patients.  She has extensive experience precepting pharmacy students and residents.  Dr. Lorentz maintains a strong interest in ambulatory care practice and expanding the role of pharmacists in providing MTM services. \nAbout the Speaker: Laura Hart \n \nDr. Laura Hart is an Assistant Clinical Professor at the University of California\, San Diego Skaggs School of Pharmacy and Pharmaceutical Sciences. Her clinical specialty is geriatrics\, and she is passionate about improving the care of older adults through her efforts in clinical practice\, teaching\, and research. Her research aims to optimize medication use in older adults by examining risks and patterns of medication use in this population. Her research to date has specifically focused in the areas of central nervous system-active medications\, falls\, and dementia. She is also interested in the implementation and evaluation of innovative pharmacy practice models in the care of older adults.  \nPrior to her current position\, Dr. Hart completed her education and training in Seattle\, WA. She graduated from the University of Washington with a B.S. in Public Health and a Doctor of Pharmacy degree. She then completed a first year pharmacy residency at the Veterans Affairs Puget Sound Health Care system in Seattle\, WA\, followed by a second year residency and fellowship program in geriatric pharmacotherapy with the University of Washington School of Pharmacy. During this time\, she earned her M.S. degree in Pharmaceutical Outcomes Research and Policy.
URL:http://dev.amazingcarenetwork.com/event/covid-19-vaccination-updates/
LOCATION:Webinar Only Event
CATEGORIES:California,Hawaii
ATTACH;FMTTYPE=image/jpeg:https://acnwordpressnew.s3.amazonaws.com/wp-content/uploads/2020/12/14234253/pexels-artem-podrez-5878514-scaled.jpg
END:VEVENT
BEGIN:VEVENT
DTSTART;TZID=America/Los_Angeles:20210212T130000
DTEND;TZID=America/Los_Angeles:20210212T140000
DTSTAMP:20260420T035038
CREATED:20201204T070038Z
LAST-MODIFIED:20210129T014120Z
UID:7383-1613134800-1613138400@dev.amazingcarenetwork.com
SUMMARY:The Role of Academia as we Age
DESCRIPTION:TICKETS ON SALE NOW!\nThe Role of Academia as We Age\nMills College has long welcomed curious learners of all ages\, from the very young students who attend the Mills College Children’s School to the alumna who earned a BA in art history from Mills in 2010 at the age of 94\, explaining that she’d been delayed a bit by the Great Depression and a busy life. Today\, with the growth of online learning tools and proliferation of “encore” career options that connect women old and young\, academic institutions can play an even larger role in building bridges toward equity\, opportunity\, and multi-generational problem-solving. \nJoin us for a webinar on February 12\, 2021 @ 1pm PST \nYOU WILL RECEIVE A LINK TO THE WEBINAR TWO (2) DAYS PRIOR TO EVENT. \nLAST DAY TO REGISTER IS FEBRUARY 11\, 2021 @ 11:59PM PST \nAbout the Speaker\n \nElizabeth L. Hillman\, President of Mills College\nDr. Elizabeth L. Hillman is the 14th President of Mills College. She brings to Mills extensive experience in higher education administration and instruction and a distinguished background working on key gender and women’s issues.  \nHillman’s expertise in sexual violence and gender issues in military organizations and culture has brought her national and international recognition. She has been an expert witness testifying before Congress on numerous occasions\, including at the Congressional Women’s Caucus hearing to address nonconsensual pornography in the U.S. Military (Marines United). She is a sought-after educator and speaker on the topics of sexual assault and harassment\, and women’s leadership and rights. In 2013–2014\, she served on the Response Systems to the Adult Sexual Assault Crimes Panel (RSP)\, and also chaired the RSP’s Comparative Systems Subcommittee.  \nHillman is a founding member of the President’s Alliance on Higher Education and Immigration\, and currently serves as interim president/chair of ACAA Presidents Council\, on the executive committee of the Association of Independent California Colleges and Universities\, the board of the Women’s College Coalition\, and as a member of the NCAA Division III Chancellors and Presidents Advisory Group. She was appointed to serve on a blue-ribbon study group\, the National Academies of Sciences\, Engineering and Medicine Committee Addressing Sexual Harassment in the Science\, Engineering\, and Medical Workplaces\, that released a path-breaking report in 2018.  \nHillman is the former provost and academic dean at the University of California\, Hastings College of the Law\, where she also served as the chief academic officer. Prior to her position at Hastings\, Hillman served as professor of law and director of faculty development at Rutgers University School of Law and taught at Yale University and the US Air Force Academy. She also was an officer in the US Air Force\, where she served as a space operations officer and orbital analyst.  \nShe received her Bachelor of Science in electrical engineering from Duke University in 1989 and an MA in history from the University of Pennsylvania in 1994 and went on to receive a JD from Yale Law School in 2000 and a PhD in history with a focus on women’s history from Yale University in 2001.
URL:http://dev.amazingcarenetwork.com/event/the-role-of-academia-as-we-age/
LOCATION:Webinar Only Event
CATEGORIES:California,Hawaii
ATTACH;FMTTYPE=image/jpeg:https://acnwordpressnew.s3.amazonaws.com/wp-content/uploads/2020/12/03225850/Screen-Shot-2020-12-03-at-12.51.51-PM.jpg
END:VEVENT
BEGIN:VEVENT
DTSTART;TZID=America/Los_Angeles:20210121T130000
DTEND;TZID=America/Los_Angeles:20210121T140000
DTSTAMP:20260420T035038
CREATED:20201204T063734Z
LAST-MODIFIED:20201222T075237Z
UID:7377-1611234000-1611237600@dev.amazingcarenetwork.com
SUMMARY:Connecting Vetted Mentors To Kids
DESCRIPTION:TICKETS ON SALE NOW!\nLearn how Eldera connects vetted members (with at least six decades of life experience) with kids for storytelling\, help with schoolwork\, or conversations through a global network. With the virtual help\, children around the world develop resilience and soft skills seamlessly. Eldera reconnects generations through our global community where they engage in live cultural and educational events and receive resources for shared learning\, growth\, and connection. Join us for a webinar on January 21 @ 11am HST\, 1pm PST\, 4pm EST. \nYOU WILL RECEIVE A LINK TO THE WEBINAR TWO (2) DAYS PRIOR TO EVENT. \nLAST DAY TO REGISTER IS JANUARY 20\, 2020 @ 11:59PM HST \n \nAbout The Speaker: \nDana Griffin\, Co-Founder & CEO\, Eldera\nDana Griffin is the Co-founder and CEO of Eldera.ai\, the global intergenerational platform that connects vetted mentors (with at least six decades of life experience) with kids for storytime\, help with schoolwork or just a friendly conversation. \nDana and her co-founders are building Eldera to become a virtual village with a real soul and to activate our elders as assets to society and their wisdom as a service to humanity. Dana is a former data and advertising executive turned Age Tech entrepreneur and AI for Good advocate. Raised by her grandparents in Transylvania and then guided by elders throughout her life\, Dana authored multiple trademarks and patents focused on aging\, wisdom and the impact of longevity. \nShe serves as the NY Director of AI Commons and as an official UN delegate to Global Pulse. She has been advising\, consulting\, and speaking internationally about principled uses of AI for innovation\, policy\, and social impact. Named by AdAge as “40 under 40 changing the advertising industry”\, she has a C-suite background in global expansion\, strategy and data\, partnering with Fortune 500s\, high growth startups and non-profit organizations. \nA Vedic meditator and outspoken fan of interesting people and good food\, Dana spends her time cooking\, training in Krav Maga and exploring human wisdom.
URL:http://dev.amazingcarenetwork.com/event/connecting-vetted-mentors-with-kids/
LOCATION:Webinar Only Event
CATEGORIES:California,Hawaii
ATTACH;FMTTYPE=image/png:https://acnwordpressnew.s3.amazonaws.com/wp-content/uploads/2020/12/03223406/Screen-Shot-2020-12-03-at-12.33.52-PM.png
END:VEVENT
BEGIN:VEVENT
DTSTART;TZID=America/Los_Angeles:20201215T130000
DTEND;TZID=America/Los_Angeles:20201215T140000
DTSTAMP:20260420T035038
CREATED:20201118T055900Z
LAST-MODIFIED:20201204T072259Z
UID:7349-1608037200-1608040800@dev.amazingcarenetwork.com
SUMMARY:Travel In The Age Of Covid
DESCRIPTION:What will travel look like as we move out of the pandemic? How can we be as safe as possible when we travel? What steps do we need to take to be on airplanes\, cruise ships\, trains and other ground transportation? What about safety in our accommodations? Join the webinar on December 15\, 2020 at 11am HST (1pm PST & 4pm EST) \, when Nate will offer advice\, tips and ideas for safely re-starting travel as the world opens up. \n\nAbout The Speaker: Nathan Vallier\, Alaska & Yukon Tours\n\n\n\n\n\n\n\nNate Vallier\, President of Alaska & Yukon Tours\, has worked extensively in the airline business for over 25 years\, and also owns a travel agency that services airlines and as an inbound tour operator for Alaska. Nate’s career requires constant travel\, including multiple international and cross-country trips during our current COVID crisis. His travels have landed him on almost every major continent and has included 4 around-the-world trips. His commutes to Hawai‘i have entailed almost monthly gigs\, providing part time sales and marketing services for an inter-island carrier in Hawaii. His knowledge of travel as both a provider AND user\, provides amazing insight that many companies have come to value and trust. Nate has been featured in numerous travel blogs and newspapers\, including USA Today\, the Ft. Lauderdale Sun Sentinel\, and Chicago Tribune.
URL:http://dev.amazingcarenetwork.com/event/travel-in-the-age-of-covid-2/
LOCATION:Webinar Only Event
CATEGORIES:California,Hawaii
ATTACH;FMTTYPE=image/jpeg:https://acnwordpressnew.s3.amazonaws.com/wp-content/uploads/2020/11/17215758/https___cdn.evbuc_.com_images_115589519_151036101386_1_original.jpg
END:VEVENT
BEGIN:VEVENT
DTSTART;TZID=UTC:20200423T140000
DTEND;TZID=UTC:20200423T150000
DTSTAMP:20260420T035038
CREATED:20200227T081815Z
LAST-MODIFIED:20200403T105707Z
UID:5736-1587650400-1587654000@dev.amazingcarenetwork.com
SUMMARY:Dealing with Seasons of Grief Webinar
DESCRIPTION:Webinar starts at 2PM PST (11AM HST & 5PM EST) \n\n\nAs we monitor the latest news about COVID-19\, we are transitioning our events in to be offered as a webinar.\n\nTalk Topic\n“Dealing with Seasons of Grief” \nSpeaker\n> Kevin Yriarte – Founding and Senior Pastor of Journey of Faith Church \n\nTICKETS\n\n\nNon Members: $15\nACN Members: FREE (With Promo Code)\nACN Member Guests: $10 (With Promo Code)\n\nEMAIL customer.service@amazingcarenetwork.com TO OBTAIN PROMO CODES!\n \n\n\nLINK TO WEBINAR SIGN UP WILL BE SENT TO ATTENDEES.\n\n*Members and member guests get a special discount! Please email customer.service@amazingcarenetwork.com for your special promo code! \nPlease feel free to bring along a likeminded friend\, neighbor\, or colleague that you think might be interested. Our lives seem to move in remarkably beautiful directions when we take the time to reach out to those around us. \nLearn More About The Speaker! \n \nKevin Yriarte is the Founding and Senior Pastor of Journey of Faith Church located in Covina for the past 10 years. He also serves as the Chaplain for the La Verne Police Department and has done so for the past 7 ½ years. \nMr. Yriarte received his Bachelor’s degree in Business Administration at California State Polytechnical University Pomona in 1989. While pursuing his undergraduate degree\, he also obtained licensing as an Emergency Medical Technician where he worked in the field for 3 years. After pursuing his undergraduate degree\, he went on to receive his Master’s degree in Healthcare Administration from the University of Southern California in 1991. Thereafter\, he worked in the managed care industry for 20 years as a senior executive until being called into ministry. \nIn his various roles as a pastor\, chaplain\, and his prior experience in the medical arena\, Mr. Yriarte has gained a wealth of knowledge\, experience and training in the fields of grief\, bereavement\, hospice care and other areas related to the unexpected events that occur in life. \n 
URL:http://dev.amazingcarenetwork.com/event/join-us-for-tea-talks-in-san-deigo/
LOCATION:Webinar Only Event
CATEGORIES:California
ATTACH;FMTTYPE=image/jpeg:http://acnwordpressnew.s3.amazonaws.com/wp-content/uploads/2020/03/Untitled-2-800x534-1.jpg
END:VEVENT
BEGIN:VEVENT
DTSTART;TZID=UTC:20200220T080000
DTEND;TZID=UTC:20200220T170000
DTSTAMP:20260420T035038
CREATED:20200121T134912Z
LAST-MODIFIED:20200121T135306Z
UID:4623-1582185600-1582218000@dev.amazingcarenetwork.com
SUMMARY:Strategies For Dealing With Life Events In Caregiving with Kevin Yriarte
DESCRIPTION:
URL:http://dev.amazingcarenetwork.com/event/strategies-for-dealing-with-life-events-in-caregiving-with-kevin-yriarte/
LOCATION:Sterling Administration Corporate Office\, 1000 Broadway Suite #250\, Oakland\, CA\, 94607\, United States
CATEGORIES:California
ATTACH;FMTTYPE=image/jpeg:http://acnwordpressnew.s3.amazonaws.com/wp-content/uploads/2020/01/businessman-addressing-multi-cultural-office-PX7H3GL-scaled.jpg
END:VEVENT
END:VCALENDAR